BEGIN:VCALENDAR
VERSION:2.0
PRODID:spatie/icalendar-generator
DESCRIPTION:Events from Imaging &amp;amp\; Optics Facility
X-WR-CALDESC:Events from Imaging &amp;amp\; Optics Facility
REFRESH-INTERVAL;VALUE=DURATION:PT1440M
X-PUBLISHED-TTL:PT1440M
BEGIN:VTIMEZONE
TZID:Europe/Vienna
BEGIN:STANDARD
DTSTART:20251026T030000Z
TZOFFSETFROM:+0200
TZOFFSETTO:+0100
END:STANDARD
BEGIN:DAYLIGHT
DTSTART:20260329T020000Z
TZOFFSETFROM:+0100
TZOFFSETTO:+0200
END:DAYLIGHT
BEGIN:STANDARD
DTSTART:20261025T030000Z
TZOFFSETFROM:+0200
TZOFFSETTO:+0100
END:STANDARD
END:VTIMEZONE
BEGIN:VTIMEZONE
TZID:UTC
BEGIN:STANDARD
DTSTART:20250724T020124Z
TZOFFSETFROM:+0000
TZOFFSETTO:+0000
END:STANDARD
END:VTIMEZONE
BEGIN:VEVENT
UID:94-4
DTSTAMP:20260420T020124Z
SUMMARY:General Laser Safety Training
LOCATION:
ORGANIZER;CN=Doreen Milius:MAILTO:Doreen.Milius@ist.ac.at
RRULE:FREQ=MONTHLY;BYDAY=1MO;UNTIL=20301231T000000Z
DTSTART;TZID=Europe/Vienna:20260504T150000
DTEND;TZID=Europe/Vienna:20260504T153000
X-ALT-DESC;FMTTYPE=TEXT/HTML:Dear all\, Welcome to ISTA and thank you for y
 our interest to start using laser equipment. This general laser safety tra
 ining is meant for NEW scientists and staff that are planning to use laser
  based equipment and/or need access to a laser lab. New users of microscop
 es of the IOF machine park have to sign&amp;hellip\;
CATEGORIES:Laser Safety
URL;VALUE=URI:https://iof.pages.ist.ac.at/iof-events/general-laser-safety-t
 raining/?mc_id=94
METHOD:PUBLISH
END:VEVENT
END:VCALENDAR