BEGIN:VCALENDAR
VERSION:2.0
PRODID:spatie/icalendar-generator
DESCRIPTION:Events from Imaging &amp;amp\; Optics Facility
X-WR-CALDESC:Events from Imaging &amp;amp\; Optics Facility
REFRESH-INTERVAL;VALUE=DURATION:PT1440M
X-PUBLISHED-TTL:PT1440M
BEGIN:VTIMEZONE
TZID:Europe/Vienna
BEGIN:STANDARD
DTSTART:20251026T030000Z
TZOFFSETFROM:+0200
TZOFFSETTO:+0100
END:STANDARD
BEGIN:DAYLIGHT
DTSTART:20260329T020000Z
TZOFFSETFROM:+0100
TZOFFSETTO:+0200
END:DAYLIGHT
END:VTIMEZONE
BEGIN:VTIMEZONE
TZID:UTC
BEGIN:STANDARD
DTSTART:20250724T091733Z
TZOFFSETFROM:+0000
TZOFFSETTO:+0000
END:STANDARD
END:VTIMEZONE
BEGIN:VEVENT
UID:694-24
DTSTAMP:20260420T091733Z
SUMMARY:Online training update: Andor Dragonfly 505 - new Fusions Software 
 Features
LOCATION:ISTA Am Campus 1  Klosterneuburg  3400
ORGANIZER;CN=Gabriel Krens:MAILTO:gabriel.krens@ist.ac.at
DTSTART;TZID=Europe/Vienna:20260204T103000
DTEND;TZID=Europe/Vienna:20260204T113000
X-ALT-DESC;FMTTYPE=TEXT/HTML:During this online training\,  will demonstra
 te  the reworked tiling options and several new features the new Andor Fu
 sion platform for the Dragonfly 505 provides\, that include: spiral montag
 e\, irregular montages\, Z intensity correction\, focus map\, tilt correct
 ion. Wed. 4 Feb at 10:30 or Wed. 11 Feb at 13:00. Please join via Zoom: 
 https://istaustria.zoom.us/j/68163582092?pwd=nXkoPRmWSJ9VN9SjAlsPEXjWe0Yda
 m.1
CATEGORIES:Seminars &amp; Teaching events
URL;VALUE=URI:https://iof.pages.ist.ac.at/iof-events/online-training-update
 -andor-dragonfly-505-new-fusions-software-features/
METHOD:PUBLISH
END:VEVENT
END:VCALENDAR