BEGIN:VCALENDAR
VERSION:2.0
PRODID:spatie/icalendar-generator
DESCRIPTION:Events from Imaging &amp;amp\; Optics Facility
X-WR-CALDESC:Events from Imaging &amp;amp\; Optics Facility
REFRESH-INTERVAL;VALUE=DURATION:PT1440M
X-PUBLISHED-TTL:PT1440M
BEGIN:VTIMEZONE
TZID:Europe/Vienna
BEGIN:STANDARD
DTSTART:20251026T030000Z
TZOFFSETFROM:+0200
TZOFFSETTO:+0100
END:STANDARD
BEGIN:DAYLIGHT
DTSTART:20260329T020000Z
TZOFFSETFROM:+0100
TZOFFSETTO:+0200
END:DAYLIGHT
END:VTIMEZONE
BEGIN:VTIMEZONE
TZID:UTC
BEGIN:STANDARD
DTSTART:20250724T064423Z
TZOFFSETFROM:+0000
TZOFFSETTO:+0000
END:STANDARD
END:VTIMEZONE
BEGIN:VEVENT
UID:693-23
DTSTAMP:20260420T064423Z
SUMMARY:Online training update: Zeiss ZEN3.12 and LightField 4D(LF4D)
LOCATION:ISTA Am Campus 1  Klosterneuburg  3400
ORGANIZER;CN=Gabriel Krens:MAILTO:gabriel.krens@ist.ac.at
DTSTART;TZID=Europe/Vienna:20260204T160000
DTEND;TZID=Europe/Vienna:20260204T170000
X-ALT-DESC;FMTTYPE=TEXT/HTML:This introduction is aimed for Zeiss LSM users
  at ISTA to introduce features of the latest software and showcasing capab
 ilities of LF4D. Mon. 2 Feb 16:00 or Wed. 4 Feb 16:00 Please join via Zoo
 m: https://istaustria.zoom.us/j/66659779088?pwd=OX2fJYZPRFictppvUiWMa81pON
 Gadq.1
CATEGORIES:Seminars &amp; Teaching events
URL;VALUE=URI:https://iof.pages.ist.ac.at/iof-events/online-training-update
 -zeiss-zen3-12-and-lightfield-4dlf4d-2/
METHOD:PUBLISH
END:VEVENT
END:VCALENDAR