BEGIN:VCALENDAR
VERSION:2.0
PRODID:spatie/icalendar-generator
DESCRIPTION:Events from Imaging &amp;amp\; Optics Facility
X-WR-CALDESC:Events from Imaging &amp;amp\; Optics Facility
REFRESH-INTERVAL;VALUE=DURATION:PT1440M
X-PUBLISHED-TTL:PT1440M
BEGIN:VTIMEZONE
TZID:Europe/Vienna
BEGIN:DAYLIGHT
DTSTART:20250330T020000Z
TZOFFSETFROM:+0100
TZOFFSETTO:+0200
END:DAYLIGHT
BEGIN:STANDARD
DTSTART:20251026T030000Z
TZOFFSETFROM:+0200
TZOFFSETTO:+0100
END:STANDARD
BEGIN:DAYLIGHT
DTSTART:20260329T020000Z
TZOFFSETFROM:+0100
TZOFFSETTO:+0200
END:DAYLIGHT
END:VTIMEZONE
BEGIN:VTIMEZONE
TZID:UTC
BEGIN:STANDARD
DTSTART:20250724T000128Z
TZOFFSETFROM:+0000
TZOFFSETTO:+0000
END:STANDARD
END:VTIMEZONE
BEGIN:VEVENT
UID:686-18
DTSTAMP:20260420T000128Z
SUMMARY:Newcomer introduction for Imaging &amp;amp\; Optics Facility
LOCATION:
ORGANIZER;CN=Bernhard Hochreiter:MAILTO:Bernhard.HOCHREITER@ist.ac.at
DTSTART;TZID=Europe/Vienna:20251209T140000
DTEND;TZID=Europe/Vienna:20251209T153000
X-ALT-DESC;FMTTYPE=TEXT/HTML:Dear all\, Welcome to ISTA  and/or thank you 
 for your interest to start using the Imaging &amp;amp\; Optics Facility. To st
 reamline the equipment trainings better\, we provide an “New user introd
 uction to Imaging &amp;amp\; Optics Facility” to make you aware of our infra
 structure\, safety guidelines and overall house-rules. This EXTRA introduc
 tion is planned for every&amp;hellip\;
CATEGORIES:General,  Laser Safety,  Seminars &amp; Teaching events
URL;VALUE=URI:https://iof.pages.ist.ac.at/iof-events/newcomer-introduction-
 for-imaging-optics-facility-3/
METHOD:PUBLISH
END:VEVENT
END:VCALENDAR