BEGIN:VCALENDAR
VERSION:2.0
PRODID:spatie/icalendar-generator
DESCRIPTION:Events from Imaging &amp;amp\; Optics Facility
X-WR-CALDESC:Events from Imaging &amp;amp\; Optics Facility
REFRESH-INTERVAL;VALUE=DURATION:PT1440M
X-PUBLISHED-TTL:PT1440M
BEGIN:VTIMEZONE
TZID:Europe/Vienna
BEGIN:DAYLIGHT
DTSTART:20250330T020000Z
TZOFFSETFROM:+0100
TZOFFSETTO:+0200
END:DAYLIGHT
BEGIN:STANDARD
DTSTART:20251026T030000Z
TZOFFSETFROM:+0200
TZOFFSETTO:+0100
END:STANDARD
BEGIN:DAYLIGHT
DTSTART:20260329T020000Z
TZOFFSETFROM:+0100
TZOFFSETTO:+0200
END:DAYLIGHT
END:VTIMEZONE
BEGIN:VTIMEZONE
TZID:UTC
BEGIN:STANDARD
DTSTART:20250725T020529Z
TZOFFSETFROM:+0000
TZOFFSETTO:+0000
END:STANDARD
END:VTIMEZONE
BEGIN:VEVENT
UID:201-13
DTSTAMP:20260421T020529Z
SUMMARY:Workshop: Towards fluidcis based multiplexing image aquisition (ibi
 di)
LOCATION:ISTA Am Campus 1  Klosterneuburg  3400
ORGANIZER;CN=Gabriel Krens:MAILTO:gabriel.krens@ist.ac.at
DTSTART;TZID=Europe/Vienna;VALUE=DATE:20251119
DTEND;TZID=Europe/Vienna;VALUE=DATE:20251122
X-ALT-DESC;FMTTYPE=TEXT/HTML:As part of an on-site workshop where we are ex
 ploring options to add fluidics automation to imaging setups\, we are host
 ing a seminar by Ibidi to introduce to the possibilities that can already 
 be done - and an outlook to the future. The workshop is focussed on an exc
 hange between the facility and Ibidi\, but&amp;hellip\;
CATEGORIES:Equipment Demonstrations
URL;VALUE=URI:https://iof.pages.ist.ac.at/iof-events/workshop-towards-fluid
 cis-based-multiplexing-image-aquisition-ibidi/
METHOD:PUBLISH
END:VEVENT
END:VCALENDAR