BEGIN:VCALENDAR
VERSION:2.0
PRODID:spatie/icalendar-generator
DESCRIPTION:Events from Imaging &amp;amp\; Optics Facility
X-WR-CALDESC:Events from Imaging &amp;amp\; Optics Facility
REFRESH-INTERVAL;VALUE=DURATION:PT1440M
X-PUBLISHED-TTL:PT1440M
BEGIN:VTIMEZONE
TZID:Europe/Vienna
BEGIN:DAYLIGHT
DTSTART:20250330T020000Z
TZOFFSETFROM:+0100
TZOFFSETTO:+0200
END:DAYLIGHT
BEGIN:STANDARD
DTSTART:20251026T030000Z
TZOFFSETFROM:+0200
TZOFFSETTO:+0100
END:STANDARD
BEGIN:DAYLIGHT
DTSTART:20260329T020000Z
TZOFFSETFROM:+0100
TZOFFSETTO:+0200
END:DAYLIGHT
END:VTIMEZONE
BEGIN:VTIMEZONE
TZID:UTC
BEGIN:STANDARD
DTSTART:20250724T182457Z
TZOFFSETFROM:+0000
TZOFFSETTO:+0000
END:STANDARD
END:VTIMEZONE
BEGIN:VEVENT
UID:196-16
DTSTAMP:20260420T182457Z
SUMMARY:Seminar: Untangling of in vivo dynamics of the neural networks
LOCATION:ISTA Am Campus 1  Klosterneuburg  3400
ORGANIZER;CN=Gabriel Krens:MAILTO:gabriel.krens@ist.ac.at
DTSTART;TZID=Europe/Vienna:20251201T110000
DTEND;TZID=Europe/Vienna:20251201T120000
X-ALT-DESC;FMTTYPE=TEXT/HTML:Seminar start shifted to 11:15h The Imaging an
 d Optics Facility\, at ISTA is hosting a seminar about the Femtonics FEMTO
 3D Atlas Multi-photon microscope. The FEMTO3D Atlas combines high-tech sci
 ence and engineering in 3D measurements. It implements and goes beyond the
  traditional galvo and resonant scanner-based imaging functions and combin
 es them with a unique fast 3D&amp;hellip\;
CATEGORIES:Seminars &amp; Teaching events
URL;VALUE=URI:https://iof.pages.ist.ac.at/iof-events/seminar-untangling-of-
 in-vivo-dynamics-of-the-neural-networks/
METHOD:PUBLISH
END:VEVENT
END:VCALENDAR