BEGIN:VCALENDAR
VERSION:2.0
PRODID:spatie/icalendar-generator
DESCRIPTION:Events from Imaging &amp;amp\; Optics Facility
X-WR-CALDESC:Events from Imaging &amp;amp\; Optics Facility
REFRESH-INTERVAL;VALUE=DURATION:PT1440M
X-PUBLISHED-TTL:PT1440M
BEGIN:VTIMEZONE
TZID:Europe/Vienna
BEGIN:DAYLIGHT
DTSTART:20250330T020000Z
TZOFFSETFROM:+0100
TZOFFSETTO:+0200
END:DAYLIGHT
BEGIN:STANDARD
DTSTART:20251026T030000Z
TZOFFSETFROM:+0200
TZOFFSETTO:+0100
END:STANDARD
END:VTIMEZONE
BEGIN:VTIMEZONE
TZID:UTC
BEGIN:STANDARD
DTSTART:20250724T184230Z
TZOFFSETFROM:+0000
TZOFFSETTO:+0000
END:STANDARD
END:VTIMEZONE
BEGIN:VEVENT
UID:150-6
DTSTAMP:20260420T184230Z
SUMMARY:Workshop - Cell-Based Assays and Devices - by Ibidi
LOCATION:ISTA Am Campus 1  Klosterneuburg  3400
ORGANIZER;CN=Bernhard Hochreiter:MAILTO:Bernhard.HOCHREITER@ist.ac.at
DTSTART;TZID=Europe/Vienna:20250924T100000
DTEND;TZID=Europe/Vienna:20250924T130000
X-ALT-DESC;FMTTYPE=TEXT/HTML:This workshop by Dr. Michael Loser from Ibidi
  will give an overview over the different available sample carriers\, mat
 erials\, surface treatments and culture conditions used for light microsco
 py. When: 24.09.2025\, 10:00-13:00 Where: Institute of Science and Techno
 logy Austria - ISTA\, Am Campus 1\, 3400 Klosterneuburg Central Building (
 i01)\, Lecture Hall Mondi 1 Contact: iof@ist.ac.at Registration: [ninja_f
 orm id='49']
CATEGORIES:Equipment Demonstrations
URL;VALUE=URI:https://iof.pages.ist.ac.at/iof-events/workshop-cell-based-as
 says-and-devices-by-ibidi/
METHOD:PUBLISH
END:VEVENT
END:VCALENDAR