BEGIN:VCALENDAR
VERSION:2.0
PRODID:spatie/icalendar-generator
DESCRIPTION:Events from Imaging &amp;amp\; Optics Facility
X-WR-CALDESC:Events from Imaging &amp;amp\; Optics Facility
REFRESH-INTERVAL;VALUE=DURATION:PT1440M
X-PUBLISHED-TTL:PT1440M
BEGIN:VTIMEZONE
TZID:Europe/Vienna
BEGIN:DAYLIGHT
DTSTART:20250330T020000Z
TZOFFSETFROM:+0100
TZOFFSETTO:+0200
END:DAYLIGHT
BEGIN:STANDARD
DTSTART:20251026T030000Z
TZOFFSETFROM:+0200
TZOFFSETTO:+0100
END:STANDARD
BEGIN:DAYLIGHT
DTSTART:20260329T020000Z
TZOFFSETFROM:+0100
TZOFFSETTO:+0200
END:DAYLIGHT
END:VTIMEZONE
BEGIN:VTIMEZONE
TZID:UTC
BEGIN:STANDARD
DTSTART:20250724T220350Z
TZOFFSETFROM:+0000
TZOFFSETTO:+0000
END:STANDARD
END:VTIMEZONE
BEGIN:VEVENT
UID:77-5
DTSTAMP:20260420T220350Z
SUMMARY:Workshop - Camera Technology &amp;amp\;Performance - by Teledyne
LOCATION:ISTA Am Campus 1  Klosterneuburg  3400
ORGANIZER;CN=Gabriel Krens:MAILTO:gabriel.krens@ist.ac.at
DTSTART;TZID=Europe/Vienna:20250925T130000
DTEND;TZID=Europe/Vienna:20250925T170000
X-ALT-DESC;FMTTYPE=TEXT/HTML:Teledyne Photometrics will be hosting a camera
  technology workshop alongside the ISTA Imaging &amp;amp\; Optics Facility. Th
 e workshop consists of an educational seminar and practical sessions where
  users can learn how to quantifiable\, compare scientific camera images an
 d optimize their use for specific applications. THE TOPICS COVERED IN THE 
 SEMINAR INCLUDE: Camera technology timeline Sensor&amp;hellip\;
CATEGORIES:General
URL;VALUE=URI:https://iof.pages.ist.ac.at/iof-events/workshop-camera-techno
 logy-performance-by-teledyne/
METHOD:PUBLISH
END:VEVENT
END:VCALENDAR