BEGIN:VCALENDAR
VERSION:2.0
PRODID:spatie/icalendar-generator
DESCRIPTION:Events from Imaging &amp;amp\; Optics Facility
X-WR-CALDESC:Events from Imaging &amp;amp\; Optics Facility
REFRESH-INTERVAL;VALUE=DURATION:PT1440M
X-PUBLISHED-TTL:PT1440M
BEGIN:VTIMEZONE
TZID:Europe/Vienna
BEGIN:STANDARD
DTSTART:20251026T030000Z
TZOFFSETFROM:+0200
TZOFFSETTO:+0100
END:STANDARD
BEGIN:DAYLIGHT
DTSTART:20260329T020000Z
TZOFFSETFROM:+0100
TZOFFSETTO:+0200
END:DAYLIGHT
END:VTIMEZONE
BEGIN:VTIMEZONE
TZID:UTC
BEGIN:STANDARD
DTSTART:20250724T110808Z
TZOFFSETFROM:+0000
TZOFFSETTO:+0000
END:STANDARD
END:VTIMEZONE
BEGIN:VEVENT
UID:698-28
DTSTAMP:20260420T110808Z
SUMMARY:Stable Scopes - VaHeat precision heating insert presentation and Q&amp;
 amp\;A
LOCATION:
ORGANIZER;CN=Bernhard Hochreiter:MAILTO:Bernhard.HOCHREITER@ist.ac.at
DTSTART;TZID=Europe/Vienna:20260422T100000
DTEND;TZID=Europe/Vienna:20260422T110000
X-ALT-DESC;FMTTYPE=TEXT/HTML:Join us for a presentation and Q&amp;amp\;A with R
 oy Shoumik\, CEO of Stable Scopes\, who will introduce their VaHeat precis
 ion heating insert for microscopy. The VaHeat insert can heat up to 100°C
  within seconds and run customized heating protocolls for complex experime
 ntal set-ups. Stable Scopes also provides a variety of substrates for the 
 VaHeat to&amp;hellip\;
CATEGORIES:Equipment Demonstrations,  Seminars &amp; Teaching events
URL;VALUE=URI:https://iof.pages.ist.ac.at/iof-events/stable-scopes-vaheat-p
 recision-heating-insert-presentation-and-qa/
METHOD:PUBLISH
END:VEVENT
END:VCALENDAR