BEGIN:VCALENDAR
VERSION:2.0
PRODID:spatie/icalendar-generator
DESCRIPTION:Events from Imaging &amp;amp\; Optics Facility
X-WR-CALDESC:Events from Imaging &amp;amp\; Optics Facility
REFRESH-INTERVAL;VALUE=DURATION:PT1440M
X-PUBLISHED-TTL:PT1440M
BEGIN:VTIMEZONE
TZID:Europe/Vienna
BEGIN:DAYLIGHT
DTSTART:20250330T020000Z
TZOFFSETFROM:+0100
TZOFFSETTO:+0200
END:DAYLIGHT
BEGIN:STANDARD
DTSTART:20251026T030000Z
TZOFFSETFROM:+0200
TZOFFSETTO:+0100
END:STANDARD
BEGIN:DAYLIGHT
DTSTART:20260329T020000Z
TZOFFSETFROM:+0100
TZOFFSETTO:+0200
END:DAYLIGHT
END:VTIMEZONE
BEGIN:VTIMEZONE
TZID:UTC
BEGIN:STANDARD
DTSTART:20250724T201814Z
TZOFFSETFROM:+0000
TZOFFSETTO:+0000
END:STANDARD
END:VTIMEZONE
BEGIN:VEVENT
UID:691-14
DTSTAMP:20260420T201814Z
SUMMARY:Demonstration: Femtonics FEMTO Atlas 3D using multi-photon microsco
 py
LOCATION:ISTA Am Campus 1  Klosterneuburg  3400
ORGANIZER;CN=Gabriel Krens:MAILTO:gabriel.krens@ist.ac.at
DTSTART;TZID=Europe/Vienna;VALUE=DATE:20251201
DTEND;TZID=Europe/Vienna;VALUE=DATE:20251206
X-ALT-DESC;FMTTYPE=TEXT/HTML:The Imaging &amp;amp\; Optics Facility is hosting 
 a demonstration of the  the FEMTO3D Atlas – in the 1st week of December
 .  This system is exceptional due to its speed and possibility to make mu
 lti-location scans in a single field of view\, as well as making 3D line-s
 cans on axons for instance to image Ca2+ and&amp;hellip\;
CATEGORIES:Equipment Demonstrations
URL;VALUE=URI:https://iof.pages.ist.ac.at/iof-events/demonstration-femtonic
 s-femto-atlas-3d-using-multi-photon-microscopy/
METHOD:PUBLISH
END:VEVENT
END:VCALENDAR