BEGIN:VCALENDAR
VERSION:2.0
PRODID:spatie/icalendar-generator
DESCRIPTION:Events from Imaging &amp;amp\; Optics Facility
X-WR-CALDESC:Events from Imaging &amp;amp\; Optics Facility
REFRESH-INTERVAL;VALUE=DURATION:PT1440M
X-PUBLISHED-TTL:PT1440M
BEGIN:VTIMEZONE
TZID:Europe/Vienna
BEGIN:DAYLIGHT
DTSTART:20250330T020000Z
TZOFFSETFROM:+0100
TZOFFSETTO:+0200
END:DAYLIGHT
BEGIN:STANDARD
DTSTART:20251026T030000Z
TZOFFSETFROM:+0200
TZOFFSETTO:+0100
END:STANDARD
BEGIN:DAYLIGHT
DTSTART:20260329T020000Z
TZOFFSETFROM:+0100
TZOFFSETTO:+0200
END:DAYLIGHT
END:VTIMEZONE
BEGIN:VTIMEZONE
TZID:UTC
BEGIN:STANDARD
DTSTART:20250724T220412Z
TZOFFSETFROM:+0000
TZOFFSETTO:+0000
END:STANDARD
END:VTIMEZONE
BEGIN:VEVENT
UID:3-2
DTSTAMP:20260420T220412Z
SUMMARY:PreSemester MICROSCOPY Course 2025/2026
LOCATION:ISTA Am Campus 1  Klosterneuburg  3400
ORGANIZER;CN=Gabriel Krens:MAILTO:gabriel.krens@ist.ac.at
DTSTART;TZID=Europe/Vienna;VALUE=DATE:20250922
DTEND;TZID=Europe/Vienna;VALUE=DATE:20251001
X-ALT-DESC;FMTTYPE=TEXT/HTML:reSemester MICROSCOPY Course 2025/2026 The (pr
 e-semester) microscopy course is organized by the Imaging &amp;amp\; Optics Fa
 cility (IOF) and aims to generate the understanding of how to design your 
 experiments using matching imaging techniques. As a red line we raise awar
 eness of the importance of proper data acquisition and the timely image an
 alysis assessments during essay&amp;hellip\;
CATEGORIES:Seminars &amp; Teaching events
URL;VALUE=URI:https://iof.pages.ist.ac.at/iof-events/presemester-microscopy
 -course-2025-2026/
METHOD:PUBLISH
END:VEVENT
END:VCALENDAR