BEGIN:VCALENDAR
VERSION:2.0
PRODID:spatie/icalendar-generator
DESCRIPTION:Events from Imaging &amp;amp\; Optics Facility
X-WR-CALDESC:Events from Imaging &amp;amp\; Optics Facility
REFRESH-INTERVAL;VALUE=DURATION:PT1440M
X-PUBLISHED-TTL:PT1440M
BEGIN:VTIMEZONE
TZID:Europe/Vienna
BEGIN:DAYLIGHT
DTSTART:20250330T020000Z
TZOFFSETFROM:+0100
TZOFFSETTO:+0200
END:DAYLIGHT
BEGIN:STANDARD
DTSTART:20251026T030000Z
TZOFFSETFROM:+0200
TZOFFSETTO:+0100
END:STANDARD
BEGIN:DAYLIGHT
DTSTART:20260329T020000Z
TZOFFSETFROM:+0100
TZOFFSETTO:+0200
END:DAYLIGHT
END:VTIMEZONE
BEGIN:VTIMEZONE
TZID:UTC
BEGIN:STANDARD
DTSTART:20250724T175526Z
TZOFFSETFROM:+0000
TZOFFSETTO:+0000
END:STANDARD
END:VTIMEZONE
BEGIN:VEVENT
UID:189-3
DTSTAMP:20260420T175526Z
SUMMARY:Demonstration: Miltenyi MACSQuant Tyto
LOCATION:ISTA Am Campus 1  Klosterneuburg  3400
ORGANIZER;CN=Gabriel Krens:MAILTO:gabriel.krens@ist.ac.at
DTSTART;TZID=Europe/Vienna:20251111T090000
DTEND;TZID=Europe/Vienna:20251113T170000
X-ALT-DESC;FMTTYPE=TEXT/HTML:In the Week of November 10th\, we will host a 
 demo of the microfluidics sorter MACSQuant Tyto from Miltenyi.  This is a
  non droplet sorter that features a quick and simple to use cartridge syst
 em that provides a fast and highly sterile sort\, that can also be used fo
 r BSL 2 samples. As the microfluidic&amp;hellip\;
CATEGORIES:Equipment Demonstrations
URL;VALUE=URI:https://iof.pages.ist.ac.at/iof-events/demonstration-miltenyi
 -macsquant-tyto/
METHOD:PUBLISH
END:VEVENT
END:VCALENDAR