BEGIN:VCALENDAR
VERSION:2.0
PRODID:spatie/icalendar-generator
DESCRIPTION:Events from Imaging &amp;amp\; Optics Facility
X-WR-CALDESC:Events from Imaging &amp;amp\; Optics Facility
REFRESH-INTERVAL;VALUE=DURATION:PT1440M
X-PUBLISHED-TTL:PT1440M
BEGIN:VTIMEZONE
TZID:Europe/Vienna
BEGIN:DAYLIGHT
DTSTART:20250330T020000Z
TZOFFSETFROM:+0100
TZOFFSETTO:+0200
END:DAYLIGHT
BEGIN:STANDARD
DTSTART:20251026T030000Z
TZOFFSETFROM:+0200
TZOFFSETTO:+0100
END:STANDARD
BEGIN:DAYLIGHT
DTSTART:20260329T020000Z
TZOFFSETFROM:+0100
TZOFFSETTO:+0200
END:DAYLIGHT
END:VTIMEZONE
BEGIN:VTIMEZONE
TZID:UTC
BEGIN:STANDARD
DTSTART:20250724T184936Z
TZOFFSETFROM:+0000
TZOFFSETTO:+0000
END:STANDARD
END:VTIMEZONE
BEGIN:VEVENT
UID:163-8
DTSTAMP:20260420T184936Z
SUMMARY:Image Analysis open-doors and Workstations maintenance
LOCATION:ISTA Am Campus 1  Klosterneuburg  3400
ORGANIZER;CN=Gabriel Krens:MAILTO:gabriel.krens@ist.ac.at
RRULE:FREQ=MONTHLY;BYDAY=3WE;UNTIL=20271231T000000Z
DTSTART;TZID=Europe/Vienna:20251119T090000
DTEND;TZID=Europe/Vienna:20251119T113000
X-ALT-DESC;FMTTYPE=TEXT/HTML:Image Analysis open-doors and Workstations mai
 ntenance Struggling with image analysis\, image acquisition or anything re
 lated to imaging or IOF instrumentation? Feel free to stop by in rooms I01
 .O3.052a/b and ask your questions\, doubts or advices at our image analysi
 s open-doors! Now every 3rd Wednesday of the month. IOF TeamD
CATEGORIES:Seminars &amp; Teaching events
URL;VALUE=URI:https://iof.pages.ist.ac.at/iof-events/image-analysis-open-do
 ors-and-workstations-maintenance/?mc_id=163
METHOD:PUBLISH
END:VEVENT
END:VCALENDAR